BEGIN:VCALENDAR
VERSION:2.0
PRODID:-//Malteseshihtzu Community Australia - ECPv6.8.3//NONSGML v1.0//EN
CALSCALE:GREGORIAN
METHOD:PUBLISH
X-ORIGINAL-URL:https://malteseshihtzucommunity.com.au
X-WR-CALDESC:Events for Malteseshihtzu Community Australia
REFRESH-INTERVAL;VALUE=DURATION:PT1H
X-Robots-Tag:noindex
X-PUBLISHED-TTL:PT1H
BEGIN:VTIMEZONE
TZID:Australia/Sydney
BEGIN:STANDARD
TZOFFSETFROM:+1100
TZOFFSETTO:+1000
TZNAME:AEST
DTSTART:20220402T160000
END:STANDARD
BEGIN:DAYLIGHT
TZOFFSETFROM:+1000
TZOFFSETTO:+1100
TZNAME:AEDT
DTSTART:20221001T160000
END:DAYLIGHT
END:VTIMEZONE
BEGIN:VEVENT
DTSTART;TZID=Australia/Sydney:20220801T080000
DTEND;TZID=Australia/Sydney:20220831T170000
DTSTAMP:20260423T055006
CREATED:20211228T031917Z
LAST-MODIFIED:20211228T031917Z
UID:132-1659340800-1661965200@malteseshihtzucommunity.com.au
SUMMARY:Pawgust 2022
DESCRIPTION:About PAWGUST \nPAWGUST is a fundraiser that encourages people and their pooches to brave the cold and walk or run at least 30 minutes every day in August to raise funds for Guide Dogs. \nThe funds you raise during PAWGUST will go towards helping breed\, raise and train Guide Dogs so that we can create a world where everyone who needs a Guide Dog\, has a Guide Dog. \nIt costs in excess of $50\,000 to breed\, raise and train just one Guide Dog puppy and with hundreds being trained each year\, every dollar raised throughout PAWGUST counts. \nPAWGUST participants (and their dog/s) will experience physical and mental health benefits from the challenge – leading to happier\, healthier lives. \nPre-registration starts now. Visit httpss://www.pawgust.com.au/ \n 
URL:https://malteseshihtzucommunity.com.au/event/pawgust-2022
ATTACH;FMTTYPE=image/png:https://malteseshihtzucommunity.com.au/wp-content/uploads/2021/12/Screen-Shot-2021-12-28-at-11.17.24-AM.png
END:VEVENT
END:VCALENDAR