BEGIN:VCALENDAR
VERSION:2.0
PRODID:-//Malteseshihtzu Community Australia - ECPv6.8.3//NONSGML v1.0//EN
CALSCALE:GREGORIAN
METHOD:PUBLISH
X-WR-CALNAME:Malteseshihtzu Community Australia
X-ORIGINAL-URL:https://malteseshihtzucommunity.com.au
X-WR-CALDESC:Events for Malteseshihtzu Community Australia
REFRESH-INTERVAL;VALUE=DURATION:PT1H
X-Robots-Tag:noindex
X-PUBLISHED-TTL:PT1H
BEGIN:VTIMEZONE
TZID:Australia/Sydney
BEGIN:STANDARD
TZOFFSETFROM:+1100
TZOFFSETTO:+1000
TZNAME:AEST
DTSTART:20230401T160000
END:STANDARD
BEGIN:DAYLIGHT
TZOFFSETFROM:+1000
TZOFFSETTO:+1100
TZNAME:AEDT
DTSTART:20230930T160000
END:DAYLIGHT
END:VTIMEZONE
BEGIN:VEVENT
DTSTART;TZID=Australia/Sydney:20230701T080000
DTEND;TZID=Australia/Sydney:20230702T170000
DTSTAMP:20260423T085401
CREATED:20230606T064937Z
LAST-MODIFIED:20230606T064937Z
UID:2830-1688198400-1688317200@malteseshihtzucommunity.com.au
SUMMARY:The Pet Show Brisbane
DESCRIPTION:The Pet Show is all about positive pet parenting. \nA ssssuperb national show celebrating the most loving family members in your life & giving you the opportunity to experience all things pets. There’ll be educational presentations\, entertainment\, products to try and buy\, meet and greet sessions\, face painters\, food trucks and more. \nBrisbane Showgrounds\, Bowen Hills
URL:https://malteseshihtzucommunity.com.au/event/the-pet-show-brisbane
END:VEVENT
BEGIN:VEVENT
DTSTART;TZID=Australia/Sydney:20230702T100000
DTEND;TZID=Australia/Sydney:20230702T150000
DTSTAMP:20260423T085401
CREATED:20230606T065021Z
LAST-MODIFIED:20230606T065021Z
UID:2833-1688292000-1688310000@malteseshihtzucommunity.com.au
SUMMARY:Dogs in the Park NSW
DESCRIPTION:Dogs in the Park has regular events with dog market stalls and dog competitions. Bring your pooch along for a great day out with your pooch. All dogs must be on leash at all times. \nThe Mill Marketplace\, Pyree
URL:https://malteseshihtzucommunity.com.au/event/dogs-in-the-park-nsw
END:VEVENT
BEGIN:VEVENT
DTSTART;TZID=Australia/Sydney:20230817T080000
DTEND;TZID=Australia/Sydney:20230819T170000
DTSTAMP:20260423T085401
CREATED:20230606T065118Z
LAST-MODIFIED:20230606T065118Z
UID:2835-1692259200-1692464400@malteseshihtzucommunity.com.au
SUMMARY:Mundi Mundi Bash\, Broken Hill
DESCRIPTION:The Broken Hill Mundi Mundi Bash is an all ages family friendly festival. Whether you’re a lover of camping\, caravanning\, outback adventure or great Aussie music\, the Bash has something for you\, your family and friends. Don’t miss out on your chance to get down in the red dust at this fantastic all-ages Australian outback music festival. Everyone’s invited. You can even bring your dog! \nMundiville\, Broken Hill
URL:https://malteseshihtzucommunity.com.au/event/mundi-mundi-bash-broken-hill
END:VEVENT
BEGIN:VEVENT
DTSTART;TZID=Australia/Sydney:20230826T093000
DTEND;TZID=Australia/Sydney:20230827T170000
DTSTAMP:20260423T085401
CREATED:20230606T065226Z
LAST-MODIFIED:20230606T065226Z
UID:2837-1693042200-1693155600@malteseshihtzucommunity.com.au
SUMMARY:Sydney Dog Lovers Festival
DESCRIPTION:Australia’s beautiful harbour city will be filled with puppy love this August\, as dog lovers from everywhere head to the best dog festival Sydney has ever seen! A visit to the Sydney Dog Lovers Festival promises to be the most joyful\, thrilling\, educational\, inspiring and fun day out this year! Everything on the program – even the face painting – is free. \nSydney Showground\, Sydney Olympic Park
URL:https://malteseshihtzucommunity.com.au/event/sydney-dog-lovers-festival
END:VEVENT
BEGIN:VEVENT
DTSTART;TZID=Australia/Sydney:20231202T090000
DTEND;TZID=Australia/Sydney:20231202T110000
DTSTAMP:20260423T085401
CREATED:20231219T034142Z
LAST-MODIFIED:20231219T034142Z
UID:2863-1701507600-1701514800@malteseshihtzucommunity.com.au
SUMMARY:Doggy Scavenger Hunt by PetsForHomes
DESCRIPTION:Get ready for a pawesome adventure! 🎉 We’re thrilled to invite you and your furry family members to our Doggy Scavenger Hunt\, sponsored by PetsForHomes! 🐶 \n📅 Date: Saturday\, 2nd December\n⏰ Time: 9am – 11am\n📍 Location: Blackman Park\, Lane Cove NSW \nWhether your pooch is a tiny terrier or a gentle giant\, this event is paw-fect for dogs of all sizes and ages. \nExpect a morning filled with fun challenges and sniff-worthy discoveries. Plus\, there are amazing prizes and giveaways waiting for both dogs and their humans! 🎁🎈 \nSpots are running out fast! Hit the link to reserve yours NOW and don’t miss out on the excitement. Only one ticket needed per family/dog. Sign up today and let’s make some memories! #PetsForHomes #DoggyScavengerHunt
URL:https://malteseshihtzucommunity.com.au/event/doggy-scavenger-hunt-by-petsforhomes
END:VEVENT
END:VCALENDAR