BEGIN:VCALENDAR
VERSION:2.0
PRODID:-//Malteseshihtzu Community Australia - ECPv6.8.3//NONSGML v1.0//EN
CALSCALE:GREGORIAN
METHOD:PUBLISH
X-WR-CALNAME:Malteseshihtzu Community Australia
X-ORIGINAL-URL:https://malteseshihtzucommunity.com.au
X-WR-CALDESC:Events for Malteseshihtzu Community Australia
REFRESH-INTERVAL;VALUE=DURATION:PT1H
X-Robots-Tag:noindex
X-PUBLISHED-TTL:PT1H
BEGIN:VTIMEZONE
TZID:Australia/Sydney
BEGIN:STANDARD
TZOFFSETFROM:+1100
TZOFFSETTO:+1000
TZNAME:AEST
DTSTART:20220402T160000
END:STANDARD
BEGIN:DAYLIGHT
TZOFFSETFROM:+1000
TZOFFSETTO:+1100
TZNAME:AEDT
DTSTART:20221001T160000
END:DAYLIGHT
END:VTIMEZONE
BEGIN:VEVENT
DTSTART;TZID=Australia/Sydney:20221008T103000
DTEND;TZID=Australia/Sydney:20221008T123000
DTSTAMP:20260423T011757
CREATED:20220924T034930Z
LAST-MODIFIED:20220924T034930Z
UID:2723-1665225000-1665232200@malteseshihtzucommunity.com.au
SUMMARY:DoGoodDoggy Pups\, Pilates\, and Pints
DESCRIPTION:DoGoodDoggy\, an innovative new provider of online dog training\, is hosting a FREE event called “DoGoodDoggy Pups\, Pilates\, and Pints” to celebrate the launch of their DoGoodDoggy wristband. It will be a great opportunity for people to connect with fellow active pet lovers over drinks at a great local venue.\n\nAttendees will get to experience a 30-minute pup-pilates session with all pilates equipment provided at a pet-friendly brewery on Sydney’s Northern Beaches. Free goodie bags will be handed out with treats for both owners and their pets. Attendees will then get the chance to hang out at the brewery over a free pint of beer or glass of wine.\n\nWhere: 7th Day Brewery in Brookvale\, NSW\nWhen: 8th of October\, 2022 at 11:15am AEST\nHow: Interested participants must pre-book and register through this page: https://dogooddoggy.com.au/free-dog-pilates-session/
URL:https://malteseshihtzucommunity.com.au/event/dogooddoggy-pups-pilates-and-pints
LOCATION:7th Day Brewery in Brookvale\, NSW\, NSW\, Australia
ATTACH;FMTTYPE=image/png:https://malteseshihtzucommunity.com.au/wp-content/uploads/2022/09/Pups-Pilates-Pints-Flyer.png
END:VEVENT
BEGIN:VEVENT
DTSTART;TZID=Australia/Sydney:20221009T100000
DTEND;TZID=Australia/Sydney:20221009T153000
DTSTAMP:20260423T011757
CREATED:20211228T031147Z
LAST-MODIFIED:20211228T031147Z
UID:128-1665309600-1665329400@malteseshihtzucommunity.com.au
SUMMARY:2022 Blacktown City Pet Festival
DESCRIPTION:Pet lovers mark your calendar for a PAWsome day out! \nWe have teamed up with the Blacktown Animal Holding Facility to get tails wagging at the annual Pet Festival on Sunday 9 October at the Blacktown Showground\, Richmond Road\, Blacktown. \nOwners and their furry\, feathery or scaly friends alike will unite for an action packed day celebrating pets and the families who love them. \nThe Pet Festival is an initiative of our Blacktown Animal Holding Facility and is a celebration of pets of all shapes and sizes. Gather the family\, pets included and join us to celebrate your ‘pet pride’! \nCheck back with us closer to the date for more information on what is happening at the event.
URL:https://malteseshihtzucommunity.com.au/event/2022-blacktown-city-pet-festival
LOCATION:Blacktown Showground\, Richmond Road\, Blacktown 2148\, New South Wales\, Australia
ATTACH;FMTTYPE=image/jpeg:https://malteseshihtzucommunity.com.au/wp-content/uploads/2021/12/maxresdefault.jpeg
END:VEVENT
BEGIN:VEVENT
DTSTART;TZID=Australia/Sydney:20221014T080000
DTEND;TZID=Australia/Sydney:20221016T170000
DTSTAMP:20260423T011757
CREATED:20211228T030228Z
LAST-MODIFIED:20211228T030228Z
UID:124-1665734400-1665939600@malteseshihtzucommunity.com.au
SUMMARY:Dog Lovers Show Melbourne
DESCRIPTION:FIND FUR-FILLMENT AT THE 2022 MELBOURNE DOG LOVERS SHOW \nThe greatest festival in the world dedicated to educating\, entertaining and inspiring dog lovers (well\, we certainly think it is!) finally returns from Friday 14th to Sunday 16th October 2022 at our new venue at the Melbourne Convention & Exhibition Centre from 9:30am to 5pm daily! \nThe whole Show will be literally bursting with attractions and it’s one of the best value days out in Melbourne as once you walk through the door everything to see and do is FREE! \nWe will also have a government approved Covid-Safe Plan in place to ensure your safety and well-being. \nHere’s a snapshot of the TOP THINGS YOU CAN DO AT THE SHOW: \n\nMeet & interact with more than 1\,200 beautiful dogs across the weekend represented by 120+ breeds spread across Pat-A-Pooch\, Insta-Pooch\, PETstock Assist Adoption Zone and the Breed Showcase;\n40+ K9-inspired shows to inform\, entertain and make you a better fur-parent;\nFree talks from some of the leading dog and animal experts with tips for a healthier\, happier hound on the Main Stage with a wide array of must-see presentations from Dr Katrina Warren\, Kelly Gill & The WONDERDOGS\, Lara Shannon\, Rose Horton\, Brodie Young with more speakers to be announced soon;\nGet in the SPLASHZONE as Australia’s most talented aquatic dogs launch themselves into our massive 100\,000-litre pool in the Black Hawk Dock Dogs held indoors for the first time;\nBe wowed in the Vitapet Arena by Australia’s most talented dogs as they perform a wide array of amazing tricks for their adoring fur-fans with shows from Dr Katrina Warren\, Kelly Gill & The WONDERDOGS\, Dave Graham and his K9 Ninja Dog Stars\, Lara Shannon and more to be announced soon;\nShop & Save with 1\,000s of the latest and greatest products and services to spoil your pooch plus exclusive Show Specials and New Product launches;\nSee\, compare and cuddle a wide range of beautiful dogs in the Breed Showcase presented by DOGS VICTORIA breed clubs – it’s the very definition of Dog Lovers Heaven.\nComplete our detailed questionnaire in the Breed Selector Survey presented by Bow Wow Meow in the Perfect Match Zone to discover the most suitable breed for your lifestyle then review over 50 giant posters detailing the characteristics of a wide array of breeds or even better – speak directly to all Breed Clubs exhibiting at the Show;\nInteract with a multitude of dog breeds\, of all shapes and sizes\, with a handler there at all times providing trusted\, reliable information on each pooch – Pat-A-Pooch presents a rare opportunity for kids (and adults) to get up-close-and-personal and relax with a wide range of Dogs on giant bean bags – complete paw-fection;\nMeet dozens of beautiful Dogs needing a fur-ever home in the PETstock Assist Adoption Zone and watch some of Australia’s biggest K9 internet stars strut their stuff down the Insta-Pooch red carpet on the Main Stage;\nChow down with lots of Cafes\, a new Paws & Prosecco Bar where you can get your nails painted with dog art by the legendary Clara H Nails team plus there’s also a range of food trucks from some of Melbourne’s yummiest favourites all inside the Show!\nStacks of activities for the kids including Doggy Face Painting\, our new Glitter Selfie Wall and the Funny Photo Wall in the all-new KIDS ZONE!
URL:https://malteseshihtzucommunity.com.au/event/dog-lovers-show-melbourne
LOCATION:Melbourne Convention and Exhibition Centre
ATTACH;FMTTYPE=image/jpeg:https://malteseshihtzucommunity.com.au/wp-content/uploads/2021/12/47947041808_6e07e8d5b4_b.jpeg
END:VEVENT
END:VCALENDAR