BEGIN:VCALENDAR
VERSION:2.0
PRODID:-//Malteseshihtzu Community Australia - ECPv6.8.3//NONSGML v1.0//EN
CALSCALE:GREGORIAN
METHOD:PUBLISH
X-WR-CALNAME:Malteseshihtzu Community Australia
X-ORIGINAL-URL:https://malteseshihtzucommunity.com.au
X-WR-CALDESC:Events for Malteseshihtzu Community Australia
REFRESH-INTERVAL;VALUE=DURATION:PT1H
X-Robots-Tag:noindex
X-PUBLISHED-TTL:PT1H
BEGIN:VTIMEZONE
TZID:Australia/Sydney
BEGIN:STANDARD
TZOFFSETFROM:+1100
TZOFFSETTO:+1000
TZNAME:AEST
DTSTART:20230401T160000
END:STANDARD
BEGIN:DAYLIGHT
TZOFFSETFROM:+1000
TZOFFSETTO:+1100
TZNAME:AEDT
DTSTART:20230930T160000
END:DAYLIGHT
END:VTIMEZONE
BEGIN:VEVENT
DTSTART;TZID=Australia/Sydney:20230817T080000
DTEND;TZID=Australia/Sydney:20230819T170000
DTSTAMP:20260422T080148
CREATED:20230606T065118Z
LAST-MODIFIED:20230606T065118Z
UID:2835-1692259200-1692464400@malteseshihtzucommunity.com.au
SUMMARY:Mundi Mundi Bash\, Broken Hill
DESCRIPTION:The Broken Hill Mundi Mundi Bash is an all ages family friendly festival. Whether you’re a lover of camping\, caravanning\, outback adventure or great Aussie music\, the Bash has something for you\, your family and friends. Don’t miss out on your chance to get down in the red dust at this fantastic all-ages Australian outback music festival. Everyone’s invited. You can even bring your dog! \nMundiville\, Broken Hill
URL:https://malteseshihtzucommunity.com.au/event/mundi-mundi-bash-broken-hill
END:VEVENT
BEGIN:VEVENT
DTSTART;TZID=Australia/Sydney:20230826T093000
DTEND;TZID=Australia/Sydney:20230827T170000
DTSTAMP:20260422T080148
CREATED:20230606T065226Z
LAST-MODIFIED:20230606T065226Z
UID:2837-1693042200-1693155600@malteseshihtzucommunity.com.au
SUMMARY:Sydney Dog Lovers Festival
DESCRIPTION:Australia’s beautiful harbour city will be filled with puppy love this August\, as dog lovers from everywhere head to the best dog festival Sydney has ever seen! A visit to the Sydney Dog Lovers Festival promises to be the most joyful\, thrilling\, educational\, inspiring and fun day out this year! Everything on the program – even the face painting – is free. \nSydney Showground\, Sydney Olympic Park
URL:https://malteseshihtzucommunity.com.au/event/sydney-dog-lovers-festival
END:VEVENT
END:VCALENDAR